BEGIN:VCALENDAR
VERSION:2.0
PRODID:-//Fort Lewis Lodge | Resort, Bed &amp; Breakfast, Inn | Bath County, Virginia - ECPv6.15.13.1//NONSGML v1.0//EN
CALSCALE:GREGORIAN
METHOD:PUBLISH
X-ORIGINAL-URL:https://www.fortlewislodge.com
X-WR-CALDESC:Events for Fort Lewis Lodge | Resort, Bed &amp; Breakfast, Inn | Bath County, Virginia
REFRESH-INTERVAL;VALUE=DURATION:PT1H
X-Robots-Tag:noindex
X-PUBLISHED-TTL:PT1H
BEGIN:VTIMEZONE
TZID:UTC
BEGIN:STANDARD
TZOFFSETFROM:+0000
TZOFFSETTO:+0000
TZNAME:UTC
DTSTART:20230101T000000
END:STANDARD
END:VTIMEZONE
BEGIN:VEVENT
DTSTART;TZID=UTC:20240820T170000
DTEND;TZID=UTC:20240820T174500
DTSTAMP:20260420T021129
CREATED:20240522T143456Z
LAST-MODIFIED:20240718T162620Z
UID:10004547-1724173200-1724175900@www.fortlewislodge.com
SUMMARY:Intervals for Everyone
DESCRIPTION:Go at your own pace interval workout consisting of equal parts cardio\, core & strength. Options for all fitness levels. The intensity is up to you! \n\n\n\n\n\n\n\n| 45 minute class |
URL:https://www.fortlewislodge.com/event/fort-lewis-boot-camp-2-2/2024-08-20/
END:VEVENT
BEGIN:VEVENT
DTSTART;TZID=UTC:20240821T165500
DTEND;TZID=UTC:20240821T174500
DTSTAMP:20260420T021129
CREATED:20240510T202450Z
LAST-MODIFIED:20240718T162738Z
UID:10004563-1724259300-1724262300@www.fortlewislodge.com
SUMMARY:Yoga Fusion
DESCRIPTION:Vinyasa yoga sequences infused with corrective postural & mobility exercises. Class will conclude with a traditional Savasana relaxation. \n\n\n\n\n| 50 minute class |
URL:https://www.fortlewislodge.com/event/yoga-fusion-2-2/2024-08-21/
END:VEVENT
BEGIN:VEVENT
DTSTART;TZID=UTC:20240824T073000
DTEND;TZID=UTC:20240824T081500
DTSTAMP:20260420T021129
CREATED:20240131T224343Z
LAST-MODIFIED:20240718T162834Z
UID:10004587-1724484600-1724487300@www.fortlewislodge.com
SUMMARY:Rise & Shine Workout
DESCRIPTION:We will utilize light resistance bands to stretch\, tone & wake up the whole body. A fantastic way to begin your day on the farm. \n| 45 minute class |
URL:https://www.fortlewislodge.com/event/rise-and-shine-stretch-and-tone-2-2/2024-08-24/
END:VEVENT
END:VCALENDAR