BEGIN:VCALENDAR
VERSION:2.0
PRODID:-//Fort Lewis Lodge | Resort, Bed &amp; Breakfast, Inn | Bath County, Virginia - ECPv6.15.13.1//NONSGML v1.0//EN
CALSCALE:GREGORIAN
METHOD:PUBLISH
X-ORIGINAL-URL:https://www.fortlewislodge.com
X-WR-CALDESC:Events for Fort Lewis Lodge | Resort, Bed &amp; Breakfast, Inn | Bath County, Virginia
REFRESH-INTERVAL;VALUE=DURATION:PT1H
X-Robots-Tag:noindex
X-PUBLISHED-TTL:PT1H
BEGIN:VTIMEZONE
TZID:UTC
BEGIN:STANDARD
TZOFFSETFROM:+0000
TZOFFSETTO:+0000
TZNAME:UTC
DTSTART:20230101T000000
END:STANDARD
END:VTIMEZONE
BEGIN:VEVENT
DTSTART;TZID=UTC:20240901T073000
DTEND;TZID=UTC:20240901T082000
DTSTAMP:20260420T002706
CREATED:20240522T202907Z
LAST-MODIFIED:20240718T162335Z
UID:10004531-1725175800-1725178800@www.fortlewislodge.com
SUMMARY:Gentle Yoga Flow
DESCRIPTION:Join us for soothing sequences designed to release tension and promote relaxation. \n\n\n\n\n| 50 minute class |
URL:https://www.fortlewislodge.com/event/gentle-yoga-flow/2024-09-01/
END:VEVENT
BEGIN:VEVENT
DTSTART;TZID=UTC:20240903T170000
DTEND;TZID=UTC:20240903T174500
DTSTAMP:20260420T002706
CREATED:20240522T143456Z
LAST-MODIFIED:20240718T162620Z
UID:10004549-1725382800-1725385500@www.fortlewislodge.com
SUMMARY:Intervals for Everyone
DESCRIPTION:Go at your own pace interval workout consisting of equal parts cardio\, core & strength. Options for all fitness levels. The intensity is up to you! \n\n\n\n\n\n\n\n| 45 minute class |
URL:https://www.fortlewislodge.com/event/fort-lewis-boot-camp-2-2/2024-09-03/
END:VEVENT
BEGIN:VEVENT
DTSTART;TZID=UTC:20240904T165500
DTEND;TZID=UTC:20240904T174500
DTSTAMP:20260420T002706
CREATED:20240510T202450Z
LAST-MODIFIED:20240718T162738Z
UID:10004567-1725468900-1725471900@www.fortlewislodge.com
SUMMARY:Yoga Fusion
DESCRIPTION:Vinyasa yoga sequences infused with corrective postural & mobility exercises. Class will conclude with a traditional Savasana relaxation. \n\n\n\n\n| 50 minute class |
URL:https://www.fortlewislodge.com/event/yoga-fusion-2-2/2024-09-04/
END:VEVENT
BEGIN:VEVENT
DTSTART;TZID=UTC:20240905T165500
DTEND;TZID=UTC:20240905T174500
DTSTAMP:20260420T002706
CREATED:20240522T142814Z
LAST-MODIFIED:20240718T163003Z
UID:10004598-1725555300-1725558300@www.fortlewislodge.com
SUMMARY:Gentle Yoga Flow
DESCRIPTION:Join us for soothing sequences designed to release tension and promote relaxation. \n\n\n\n\n| 50 minute class |
URL:https://www.fortlewislodge.com/event/yoga-fusion-2-3/2024-09-05/
END:VEVENT
BEGIN:VEVENT
DTSTART;TZID=UTC:20240906T165500
DTEND;TZID=UTC:20240906T174500
DTSTAMP:20260420T002706
CREATED:20240510T202450Z
LAST-MODIFIED:20240718T162738Z
UID:10004568-1725641700-1725644700@www.fortlewislodge.com
SUMMARY:Yoga Fusion
DESCRIPTION:Vinyasa yoga sequences infused with corrective postural & mobility exercises. Class will conclude with a traditional Savasana relaxation. \n\n\n\n\n| 50 minute class |
URL:https://www.fortlewislodge.com/event/yoga-fusion-2-2/2024-09-06/
END:VEVENT
BEGIN:VEVENT
DTSTART;TZID=UTC:20240907T073000
DTEND;TZID=UTC:20240907T081500
DTSTAMP:20260420T002706
CREATED:20240131T224343Z
LAST-MODIFIED:20240718T162834Z
UID:10004589-1725694200-1725696900@www.fortlewislodge.com
SUMMARY:Rise & Shine Workout
DESCRIPTION:We will utilize light resistance bands to stretch\, tone & wake up the whole body. A fantastic way to begin your day on the farm. \n| 45 minute class |
URL:https://www.fortlewislodge.com/event/rise-and-shine-stretch-and-tone-2-2/2024-09-07/
END:VEVENT
BEGIN:VEVENT
DTSTART;TZID=UTC:20240907T170000
DTEND;TZID=UTC:20240907T174500
DTSTAMP:20260420T002706
CREATED:20240522T203925Z
LAST-MODIFIED:20240718T163104Z
UID:10004611-1725728400-1725731100@www.fortlewislodge.com
SUMMARY:Fort Lewis Bootcamp
DESCRIPTION:An energizing circuit workout utilizing a variety of fun exercises & equipment. \n\n\n\n\n\n\n\n\n\n\n| 45 minute class |
URL:https://www.fortlewislodge.com/event/fort-lewis-bootcamp-2-2/2024-09-07/
END:VEVENT
BEGIN:VEVENT
DTSTART;TZID=UTC:20240908T073000
DTEND;TZID=UTC:20240908T082000
DTSTAMP:20260420T002706
CREATED:20240522T202907Z
LAST-MODIFIED:20240718T162335Z
UID:10004532-1725780600-1725783600@www.fortlewislodge.com
SUMMARY:Gentle Yoga Flow
DESCRIPTION:Join us for soothing sequences designed to release tension and promote relaxation. \n\n\n\n\n| 50 minute class |
URL:https://www.fortlewislodge.com/event/gentle-yoga-flow/2024-09-08/
END:VEVENT
BEGIN:VEVENT
DTSTART;TZID=UTC:20240910T170000
DTEND;TZID=UTC:20240910T174500
DTSTAMP:20260420T002706
CREATED:20240522T143456Z
LAST-MODIFIED:20240718T162620Z
UID:10004550-1725987600-1725990300@www.fortlewislodge.com
SUMMARY:Intervals for Everyone
DESCRIPTION:Go at your own pace interval workout consisting of equal parts cardio\, core & strength. Options for all fitness levels. The intensity is up to you! \n\n\n\n\n\n\n\n| 45 minute class |
URL:https://www.fortlewislodge.com/event/fort-lewis-boot-camp-2-2/2024-09-10/
END:VEVENT
BEGIN:VEVENT
DTSTART;TZID=UTC:20240911T165500
DTEND;TZID=UTC:20240911T174500
DTSTAMP:20260420T002706
CREATED:20240510T202450Z
LAST-MODIFIED:20240718T162738Z
UID:10004569-1726073700-1726076700@www.fortlewislodge.com
SUMMARY:Yoga Fusion
DESCRIPTION:Vinyasa yoga sequences infused with corrective postural & mobility exercises. Class will conclude with a traditional Savasana relaxation. \n\n\n\n\n| 50 minute class |
URL:https://www.fortlewislodge.com/event/yoga-fusion-2-2/2024-09-11/
END:VEVENT
BEGIN:VEVENT
DTSTART;TZID=UTC:20240912T165500
DTEND;TZID=UTC:20240912T174500
DTSTAMP:20260420T002706
CREATED:20240522T142814Z
LAST-MODIFIED:20240718T163003Z
UID:10004599-1726160100-1726163100@www.fortlewislodge.com
SUMMARY:Gentle Yoga Flow
DESCRIPTION:Join us for soothing sequences designed to release tension and promote relaxation. \n\n\n\n\n| 50 minute class |
URL:https://www.fortlewislodge.com/event/yoga-fusion-2-3/2024-09-12/
END:VEVENT
BEGIN:VEVENT
DTSTART;TZID=UTC:20240913T165500
DTEND;TZID=UTC:20240913T174500
DTSTAMP:20260420T002706
CREATED:20240510T202450Z
LAST-MODIFIED:20240718T162738Z
UID:10004570-1726246500-1726249500@www.fortlewislodge.com
SUMMARY:Yoga Fusion
DESCRIPTION:Vinyasa yoga sequences infused with corrective postural & mobility exercises. Class will conclude with a traditional Savasana relaxation. \n\n\n\n\n| 50 minute class |
URL:https://www.fortlewislodge.com/event/yoga-fusion-2-2/2024-09-13/
END:VEVENT
BEGIN:VEVENT
DTSTART;TZID=UTC:20240914T073000
DTEND;TZID=UTC:20240914T081500
DTSTAMP:20260420T002706
CREATED:20240131T224343Z
LAST-MODIFIED:20240718T162834Z
UID:10004590-1726299000-1726301700@www.fortlewislodge.com
SUMMARY:Rise & Shine Workout
DESCRIPTION:We will utilize light resistance bands to stretch\, tone & wake up the whole body. A fantastic way to begin your day on the farm. \n| 45 minute class |
URL:https://www.fortlewislodge.com/event/rise-and-shine-stretch-and-tone-2-2/2024-09-14/
END:VEVENT
BEGIN:VEVENT
DTSTART;TZID=UTC:20240914T170000
DTEND;TZID=UTC:20240914T174500
DTSTAMP:20260420T002706
CREATED:20240522T203925Z
LAST-MODIFIED:20240718T163104Z
UID:10004612-1726333200-1726335900@www.fortlewislodge.com
SUMMARY:Fort Lewis Bootcamp
DESCRIPTION:An energizing circuit workout utilizing a variety of fun exercises & equipment. \n\n\n\n\n\n\n\n\n\n\n| 45 minute class |
URL:https://www.fortlewislodge.com/event/fort-lewis-bootcamp-2-2/2024-09-14/
END:VEVENT
BEGIN:VEVENT
DTSTART;TZID=UTC:20240915T073000
DTEND;TZID=UTC:20240915T082000
DTSTAMP:20260420T002706
CREATED:20240522T202907Z
LAST-MODIFIED:20240718T162335Z
UID:10004533-1726385400-1726388400@www.fortlewislodge.com
SUMMARY:Gentle Yoga Flow
DESCRIPTION:Join us for soothing sequences designed to release tension and promote relaxation. \n\n\n\n\n| 50 minute class |
URL:https://www.fortlewislodge.com/event/gentle-yoga-flow/2024-09-15/
END:VEVENT
BEGIN:VEVENT
DTSTART;TZID=UTC:20240917T170000
DTEND;TZID=UTC:20240917T174500
DTSTAMP:20260420T002706
CREATED:20240522T143456Z
LAST-MODIFIED:20240718T162620Z
UID:10004551-1726592400-1726595100@www.fortlewislodge.com
SUMMARY:Intervals for Everyone
DESCRIPTION:Go at your own pace interval workout consisting of equal parts cardio\, core & strength. Options for all fitness levels. The intensity is up to you! \n\n\n\n\n\n\n\n| 45 minute class |
URL:https://www.fortlewislodge.com/event/fort-lewis-boot-camp-2-2/2024-09-17/
END:VEVENT
BEGIN:VEVENT
DTSTART;TZID=UTC:20240918T165500
DTEND;TZID=UTC:20240918T174500
DTSTAMP:20260420T002706
CREATED:20240510T202450Z
LAST-MODIFIED:20240718T162738Z
UID:10004571-1726678500-1726681500@www.fortlewislodge.com
SUMMARY:Yoga Fusion
DESCRIPTION:Vinyasa yoga sequences infused with corrective postural & mobility exercises. Class will conclude with a traditional Savasana relaxation. \n\n\n\n\n| 50 minute class |
URL:https://www.fortlewislodge.com/event/yoga-fusion-2-2/2024-09-18/
END:VEVENT
BEGIN:VEVENT
DTSTART;TZID=UTC:20240919T165500
DTEND;TZID=UTC:20240919T174500
DTSTAMP:20260420T002706
CREATED:20240522T142814Z
LAST-MODIFIED:20240718T163003Z
UID:10004600-1726764900-1726767900@www.fortlewislodge.com
SUMMARY:Gentle Yoga Flow
DESCRIPTION:Join us for soothing sequences designed to release tension and promote relaxation. \n\n\n\n\n| 50 minute class |
URL:https://www.fortlewislodge.com/event/yoga-fusion-2-3/2024-09-19/
END:VEVENT
BEGIN:VEVENT
DTSTART;TZID=UTC:20240920T165500
DTEND;TZID=UTC:20240920T174500
DTSTAMP:20260420T002706
CREATED:20240510T202450Z
LAST-MODIFIED:20240718T162738Z
UID:10004572-1726851300-1726854300@www.fortlewislodge.com
SUMMARY:Yoga Fusion
DESCRIPTION:Vinyasa yoga sequences infused with corrective postural & mobility exercises. Class will conclude with a traditional Savasana relaxation. \n\n\n\n\n| 50 minute class |
URL:https://www.fortlewislodge.com/event/yoga-fusion-2-2/2024-09-20/
END:VEVENT
BEGIN:VEVENT
DTSTART;TZID=UTC:20240921T073000
DTEND;TZID=UTC:20240921T081500
DTSTAMP:20260420T002706
CREATED:20240131T224343Z
LAST-MODIFIED:20240718T162834Z
UID:10004591-1726903800-1726906500@www.fortlewislodge.com
SUMMARY:Rise & Shine Workout
DESCRIPTION:We will utilize light resistance bands to stretch\, tone & wake up the whole body. A fantastic way to begin your day on the farm. \n| 45 minute class |
URL:https://www.fortlewislodge.com/event/rise-and-shine-stretch-and-tone-2-2/2024-09-21/
END:VEVENT
BEGIN:VEVENT
DTSTART;TZID=UTC:20240921T170000
DTEND;TZID=UTC:20240921T174500
DTSTAMP:20260420T002706
CREATED:20240522T203925Z
LAST-MODIFIED:20240718T163104Z
UID:10004613-1726938000-1726940700@www.fortlewislodge.com
SUMMARY:Fort Lewis Bootcamp
DESCRIPTION:An energizing circuit workout utilizing a variety of fun exercises & equipment. \n\n\n\n\n\n\n\n\n\n\n| 45 minute class |
URL:https://www.fortlewislodge.com/event/fort-lewis-bootcamp-2-2/2024-09-21/
END:VEVENT
BEGIN:VEVENT
DTSTART;TZID=UTC:20240922T073000
DTEND;TZID=UTC:20240922T082000
DTSTAMP:20260420T002706
CREATED:20240522T202907Z
LAST-MODIFIED:20240718T162335Z
UID:10004534-1726990200-1726993200@www.fortlewislodge.com
SUMMARY:Gentle Yoga Flow
DESCRIPTION:Join us for soothing sequences designed to release tension and promote relaxation. \n\n\n\n\n| 50 minute class |
URL:https://www.fortlewislodge.com/event/gentle-yoga-flow/2024-09-22/
END:VEVENT
BEGIN:VEVENT
DTSTART;TZID=UTC:20240924T170000
DTEND;TZID=UTC:20240924T174500
DTSTAMP:20260420T002706
CREATED:20240522T143456Z
LAST-MODIFIED:20240718T162620Z
UID:10004552-1727197200-1727199900@www.fortlewislodge.com
SUMMARY:Intervals for Everyone
DESCRIPTION:Go at your own pace interval workout consisting of equal parts cardio\, core & strength. Options for all fitness levels. The intensity is up to you! \n\n\n\n\n\n\n\n| 45 minute class |
URL:https://www.fortlewislodge.com/event/fort-lewis-boot-camp-2-2/2024-09-24/
END:VEVENT
BEGIN:VEVENT
DTSTART;TZID=UTC:20240925T165500
DTEND;TZID=UTC:20240925T174500
DTSTAMP:20260420T002706
CREATED:20240510T202450Z
LAST-MODIFIED:20240718T162738Z
UID:10004573-1727283300-1727286300@www.fortlewislodge.com
SUMMARY:Yoga Fusion
DESCRIPTION:Vinyasa yoga sequences infused with corrective postural & mobility exercises. Class will conclude with a traditional Savasana relaxation. \n\n\n\n\n| 50 minute class |
URL:https://www.fortlewislodge.com/event/yoga-fusion-2-2/2024-09-25/
END:VEVENT
BEGIN:VEVENT
DTSTART;TZID=UTC:20240926T165500
DTEND;TZID=UTC:20240926T174500
DTSTAMP:20260420T002706
CREATED:20240522T142814Z
LAST-MODIFIED:20240718T163003Z
UID:10004601-1727369700-1727372700@www.fortlewislodge.com
SUMMARY:Gentle Yoga Flow
DESCRIPTION:Join us for soothing sequences designed to release tension and promote relaxation. \n\n\n\n\n| 50 minute class |
URL:https://www.fortlewislodge.com/event/yoga-fusion-2-3/2024-09-26/
END:VEVENT
BEGIN:VEVENT
DTSTART;TZID=UTC:20240927T165500
DTEND;TZID=UTC:20240927T174500
DTSTAMP:20260420T002706
CREATED:20240510T202450Z
LAST-MODIFIED:20240718T162738Z
UID:10004574-1727456100-1727459100@www.fortlewislodge.com
SUMMARY:Yoga Fusion
DESCRIPTION:Vinyasa yoga sequences infused with corrective postural & mobility exercises. Class will conclude with a traditional Savasana relaxation. \n\n\n\n\n| 50 minute class |
URL:https://www.fortlewislodge.com/event/yoga-fusion-2-2/2024-09-27/
END:VEVENT
BEGIN:VEVENT
DTSTART;TZID=UTC:20240928T073000
DTEND;TZID=UTC:20240928T081500
DTSTAMP:20260420T002706
CREATED:20240131T224343Z
LAST-MODIFIED:20240718T162834Z
UID:10004592-1727508600-1727511300@www.fortlewislodge.com
SUMMARY:Rise & Shine Workout
DESCRIPTION:We will utilize light resistance bands to stretch\, tone & wake up the whole body. A fantastic way to begin your day on the farm. \n| 45 minute class |
URL:https://www.fortlewislodge.com/event/rise-and-shine-stretch-and-tone-2-2/2024-09-28/
END:VEVENT
BEGIN:VEVENT
DTSTART;TZID=UTC:20240928T170000
DTEND;TZID=UTC:20240928T174500
DTSTAMP:20260420T002706
CREATED:20240522T203925Z
LAST-MODIFIED:20240718T163104Z
UID:10004614-1727542800-1727545500@www.fortlewislodge.com
SUMMARY:Fort Lewis Bootcamp
DESCRIPTION:An energizing circuit workout utilizing a variety of fun exercises & equipment. \n\n\n\n\n\n\n\n\n\n\n| 45 minute class |
URL:https://www.fortlewislodge.com/event/fort-lewis-bootcamp-2-2/2024-09-28/
END:VEVENT
BEGIN:VEVENT
DTSTART;TZID=UTC:20240929T073000
DTEND;TZID=UTC:20240929T082000
DTSTAMP:20260420T002706
CREATED:20240522T202907Z
LAST-MODIFIED:20240718T162335Z
UID:10004535-1727595000-1727598000@www.fortlewislodge.com
SUMMARY:Gentle Yoga Flow
DESCRIPTION:Join us for soothing sequences designed to release tension and promote relaxation. \n\n\n\n\n| 50 minute class |
URL:https://www.fortlewislodge.com/event/gentle-yoga-flow/2024-09-29/
END:VEVENT
END:VCALENDAR